BEGIN:VCALENDAR
VERSION:2.0
PRODID:-//Angelfreunde Zucker Rethen e.V. - ECPv6.15.20//NONSGML v1.0//EN
CALSCALE:GREGORIAN
METHOD:PUBLISH
X-ORIGINAL-URL:https://afz-rethen.de
X-WR-CALDESC:Veranstaltungen für Angelfreunde Zucker Rethen e.V.
REFRESH-INTERVAL;VALUE=DURATION:PT1H
X-Robots-Tag:noindex
X-PUBLISHED-TTL:PT1H
BEGIN:VTIMEZONE
TZID:Europe/Berlin
BEGIN:DAYLIGHT
TZOFFSETFROM:+0100
TZOFFSETTO:+0200
TZNAME:CEST
DTSTART:20250330T010000
END:DAYLIGHT
BEGIN:STANDARD
TZOFFSETFROM:+0200
TZOFFSETTO:+0100
TZNAME:CET
DTSTART:20251026T010000
END:STANDARD
BEGIN:DAYLIGHT
TZOFFSETFROM:+0100
TZOFFSETTO:+0200
TZNAME:CEST
DTSTART:20260329T010000
END:DAYLIGHT
BEGIN:STANDARD
TZOFFSETFROM:+0200
TZOFFSETTO:+0100
TZNAME:CET
DTSTART:20261025T010000
END:STANDARD
BEGIN:DAYLIGHT
TZOFFSETFROM:+0100
TZOFFSETTO:+0200
TZNAME:CEST
DTSTART:20270328T010000
END:DAYLIGHT
BEGIN:STANDARD
TZOFFSETFROM:+0200
TZOFFSETTO:+0100
TZNAME:CET
DTSTART:20271031T010000
END:STANDARD
END:VTIMEZONE
BEGIN:VEVENT
DTSTART;VALUE=DATE:20261231
DTEND;VALUE=DATE:20270101
DTSTAMP:20260421T161157
CREATED:20260409T082600Z
LAST-MODIFIED:20260409T082600Z
UID:955-1798675200-1798761599@afz-rethen.de
SUMMARY:Abgabe Fangmeldungen 2026
DESCRIPTION:letzter Abgabetermin für die Fangmeldungen aus 2025! \nDie Fangmeldungen sind bei Hartmut Kreiss mit oder ohne Fang abzugeben!
URL:https://afz-rethen.de/events/abgabe-fangmeldungen-2026/
CATEGORIES:Abgabetremine
ORGANIZER;CN="Angelfreunde Zucker Rethen e.V.":MAILTO:info@afz-rethen.de
END:VEVENT
END:VCALENDAR