BEGIN:VCALENDAR
VERSION:2.0
PRODID:-//Angelfreunde Zucker Rethen e.V. - ECPv6.15.20//NONSGML v1.0//EN
CALSCALE:GREGORIAN
METHOD:PUBLISH
X-WR-CALNAME:Angelfreunde Zucker Rethen e.V.
X-ORIGINAL-URL:https://afz-rethen.de
X-WR-CALDESC:Veranstaltungen für Angelfreunde Zucker Rethen e.V.
REFRESH-INTERVAL;VALUE=DURATION:PT1H
X-Robots-Tag:noindex
X-PUBLISHED-TTL:PT1H
BEGIN:VTIMEZONE
TZID:Europe/Berlin
BEGIN:DAYLIGHT
TZOFFSETFROM:+0100
TZOFFSETTO:+0200
TZNAME:CEST
DTSTART:20220327T010000
END:DAYLIGHT
BEGIN:STANDARD
TZOFFSETFROM:+0200
TZOFFSETTO:+0100
TZNAME:CET
DTSTART:20221030T010000
END:STANDARD
BEGIN:DAYLIGHT
TZOFFSETFROM:+0100
TZOFFSETTO:+0200
TZNAME:CEST
DTSTART:20230326T010000
END:DAYLIGHT
BEGIN:STANDARD
TZOFFSETFROM:+0200
TZOFFSETTO:+0100
TZNAME:CET
DTSTART:20231029T010000
END:STANDARD
BEGIN:DAYLIGHT
TZOFFSETFROM:+0100
TZOFFSETTO:+0200
TZNAME:CEST
DTSTART:20240331T010000
END:DAYLIGHT
BEGIN:STANDARD
TZOFFSETFROM:+0200
TZOFFSETTO:+0100
TZNAME:CET
DTSTART:20241027T010000
END:STANDARD
END:VTIMEZONE
BEGIN:VEVENT
DTSTART;TZID=Europe/Berlin:20230505T070000
DTEND;TZID=Europe/Berlin:20230506T070000
DTSTAMP:20260423T190658
CREATED:20230102T212101Z
LAST-MODIFIED:20230102T212101Z
UID:623-1683270000-1683356400@afz-rethen.de
SUMMARY:Gewässersperre Barnten
DESCRIPTION:Aufgrund einer Veranstaltung ist der Angelteich Barnten gesperrt.
URL:https://afz-rethen.de/events/gewaessersperre-barnten/
LOCATION:Angelteich Barnten\, 52.202500\, 9.806893
CATEGORIES:Gewässersperre
END:VEVENT
BEGIN:VEVENT
DTSTART;TZID=Europe/Berlin:20230506T070000
DTEND;TZID=Europe/Berlin:20230506T131500
DTSTAMP:20260423T190658
CREATED:20230102T204238Z
LAST-MODIFIED:20230102T204238Z
UID:611-1683356400-1683378900@afz-rethen.de
SUMMARY:Hegefischen Barnten
DESCRIPTION:Am Hegefischen können nur Vereinsmitglieder des Angelverein Angelfreunde Zucker Rethen e.V. teilnehmen. \nDer Anmeldeschluss ist der 30.04.2023 \n–> hier geht es zur Anmeldung \nAblauf: \n\n\n\nTreffen :\n07:00 Uhr\n\n\nAufsuchen der Angelplätze :\n07:15 – 07:30 Uhr\n\n\nFischen :\n08:00 – 13:15 Uhr
URL:https://afz-rethen.de/events/hegefischen-barnten/
LOCATION:Angelteich Barnten\, 52.202500\, 9.806893
CATEGORIES:Vereinsangeln
END:VEVENT
END:VCALENDAR