BEGIN:VCALENDAR
VERSION:2.0
PRODID:-//Angelfreunde Zucker Rethen e.V. - ECPv6.15.20//NONSGML v1.0//EN
CALSCALE:GREGORIAN
METHOD:PUBLISH
X-ORIGINAL-URL:https://afz-rethen.de
X-WR-CALDESC:Veranstaltungen für Angelfreunde Zucker Rethen e.V.
REFRESH-INTERVAL;VALUE=DURATION:PT1H
X-Robots-Tag:noindex
X-PUBLISHED-TTL:PT1H
BEGIN:VTIMEZONE
TZID:Europe/Berlin
BEGIN:DAYLIGHT
TZOFFSETFROM:+0100
TZOFFSETTO:+0200
TZNAME:CEST
DTSTART:20230326T010000
END:DAYLIGHT
BEGIN:STANDARD
TZOFFSETFROM:+0200
TZOFFSETTO:+0100
TZNAME:CET
DTSTART:20231029T010000
END:STANDARD
BEGIN:DAYLIGHT
TZOFFSETFROM:+0100
TZOFFSETTO:+0200
TZNAME:CEST
DTSTART:20240331T010000
END:DAYLIGHT
BEGIN:STANDARD
TZOFFSETFROM:+0200
TZOFFSETTO:+0100
TZNAME:CET
DTSTART:20241027T010000
END:STANDARD
BEGIN:DAYLIGHT
TZOFFSETFROM:+0100
TZOFFSETTO:+0200
TZNAME:CEST
DTSTART:20250330T010000
END:DAYLIGHT
BEGIN:STANDARD
TZOFFSETFROM:+0200
TZOFFSETTO:+0100
TZNAME:CET
DTSTART:20251026T010000
END:STANDARD
END:VTIMEZONE
BEGIN:VEVENT
DTSTART;TZID=Europe/Berlin:20240719T180000
DTEND;TZID=Europe/Berlin:20240720T180000
DTSTAMP:20260420T223201
CREATED:20240324T220851Z
LAST-MODIFIED:20240324T220851Z
UID:800-1721412000-1721498400@afz-rethen.de
SUMMARY:Gewässersperre Rethen
DESCRIPTION:Aufgrund einer Veranstaltung ist der Angelteich Rethen gesperrt.
URL:https://afz-rethen.de/events/gewaessersperre-rethen-5/
LOCATION:Angelteich Rethen\, 52.279873697241996\, 9.812797106566087
CATEGORIES:Gewässersperre
END:VEVENT
BEGIN:VEVENT
DTSTART;TZID=Europe/Berlin:20240720T180000
DTEND;TZID=Europe/Berlin:20240721T090000
DTSTAMP:20260420T223201
CREATED:20240324T215810Z
LAST-MODIFIED:20240330T073803Z
UID:790-1721498400-1721552400@afz-rethen.de
SUMMARY:Nachtangeln Rethen
DESCRIPTION:Am Nachtangeln können nur Vereinsmitglieder des Angelverein Angelfreunde Zucker Rethen e.V. teilnehmen. \nDer Anmeldeschluss ist der 14.07.2024 \n–> hier geht es zur Anmeldung \nAblauf: \n\n\n\nTreffen :\n18:00 Uhr\n\n\nAufsuchen der Angelplätze :\n18:15 – 18:45 Uhr\n\n\nFischen :\n19:30 – 09:00 Uhr
URL:https://afz-rethen.de/events/nachtangeln-rethen-2/
LOCATION:Angelteich Rethen\, 52.279873697241996\, 9.812797106566087
CATEGORIES:Vereinsangeln
ORGANIZER;CN="Angelfreunde Zucker Rethen e.V.":MAILTO:info@afz-rethen.de
END:VEVENT
END:VCALENDAR